BEGIN:VCALENDAR
VERSION:2.0
PRODID:-//Plone.org//NONSGML plone.app.event//EN
X-WR-TIMEZONE:America/New_York
BEGIN:VEVENT
SUMMARY:Blind Date with a Book
DTSTART;VALUE=DATE:20220201
DTEND;VALUE=DATE:20220202
DTSTAMP:20260424T155814Z
UID:22a7b2ea9aa04968aff4d58ccbce71a9@saas_stack_varnish:6080
RRULE:FREQ=DAILY;UNTIL=20220226T000000
CATEGORIES:blind date,adults,teen
CONTACT:Barbara Haywood\, 269-945-4263\, bhaywood@HastingsPublicLibrary.or
 g\, https://www.facebook.com/events/366394538151744?acontext=%7B%22event_a
 ction_history%22%3A[%7B%22surface%22%3A%22page%22%7D]%7D
CREATED:20220202T182526Z
LAST-MODIFIED:20220202T184001Z
URL:https://www.hastingspubliclibrary.org/news-events/calendar/blind-date-
 with-a-book
END:VEVENT
END:VCALENDAR
