BEGIN:VCALENDAR
VERSION:2.0
PRODID:-//Plone.org//NONSGML plone.app.event//EN
X-WR-TIMEZONE:America/New_York
BEGIN:VEVENT
SUMMARY:Beekeeping Demonstration & Hands-On Activities
DTSTART;TZID=America/New_York:20220622T150000
DTEND;TZID=America/New_York:20220622T160000
DTSTAMP:20260424T172900Z
UID:e56aae5bab6a40dc8608ec24792c4b64@saas_stack_varnish:6080
CATEGORIES:summer reading,families
CONTACT:Paige Brandli\, 269-945-4263\, pbrandli@hastingspubliclibrary.org
CREATED:20220520T173034Z
LAST-MODIFIED:20220520T173053Z
LOCATION:Community Room
URL:https://www.hastingspubliclibrary.org/news-events/calendar/beekeeping-
 demonstration-hands-on-activities
END:VEVENT
BEGIN:VTIMEZONE
TZID:America/New_York
X-LIC-LOCATION:America/New_York
BEGIN:DAYLIGHT
DTSTART:20220313T030000
TZNAME:EDT
TZOFFSETFROM:-0500
TZOFFSETTO:-0400
END:DAYLIGHT
END:VTIMEZONE
END:VCALENDAR
