BEGIN:VCALENDAR
VERSION:2.0
PRODID:-//Plone.org//NONSGML plone.app.event//EN
X-WR-TIMEZONE:America/New_York
BEGIN:VEVENT
SUMMARY:Cancelled: Barry Boss - Teen Entrepreneur Competition
DTSTART;TZID=America/New_York:20220804T180000
DTEND;TZID=America/New_York:20220804T210000
DTSTAMP:20260424T160644Z
UID:00514799321b4295b5775d0f57397491@saas_stack_varnish:6080
ATTENDEE;CN="Teens in grades 6-12";ROLE=REQ-PARTICIPANT:Teens in grades 6-
 12
CATEGORIES:teen
CONTACT:Martha Ports\, 269-945-4263\, mports@hastingspubliclibrary.org
CREATED:20220429T163727Z
LAST-MODIFIED:20220728T133330Z
LOCATION:Thornapple Plaza
URL:https://www.hastingspubliclibrary.org/news-events/calendar/barry-boss-
 teen-entrepreneur-competition
END:VEVENT
BEGIN:VTIMEZONE
TZID:America/New_York
X-LIC-LOCATION:America/New_York
BEGIN:DAYLIGHT
DTSTART:20220313T030000
TZNAME:EDT
TZOFFSETFROM:-0500
TZOFFSETTO:-0400
END:DAYLIGHT
END:VTIMEZONE
END:VCALENDAR
