BEGIN:VCALENDAR
VERSION:2.0
PRODID:-//Plone.org//NONSGML plone.app.event//EN
X-WR-TIMEZONE:America/New_York
BEGIN:VEVENT
SUMMARY:Baby Cafe
DTSTART;TZID=America/New_York:20190905T110000
DTEND;TZID=America/New_York:20190905T130000
DTSTAMP:20260422T135948Z
UID:d887936af55d4717a6bf0dd5e7095acf@saas_stack_varnish:6080
RRULE:FREQ=WEEKLY;UNTIL=20201204T000000;BYDAY=TH
EXDATE;TZID=America/New_York:20191128T000000,20200319T000000,20200326T0000
 00,20200402T000000,20200409T000000,20200416T000000,20200423T000000,2020043
 0T000000,20200507T000000,20200514T000000,20200521T000000,20200528T000000,2
 0200604T000000,20200611T000000,20200618T000000,20200625T000000,20200702T00
 0000,20200709T000000,20200716T000000,20200723T000000,20200730T000000,20200
 806T000000,20200813T000000,20200820T000000,20200827T000000,20200903T000000
 ,20200910T000000,20200917T000000,20200924T000000,20201001T000000,20201008T
 000000,20201015T000000,20201022T000000,20201029T000000,20201105T000000,202
 01112T000000,20201119T000000,20201126T000000,20201203T000000,20201210T0000
 00,20201217T000000,20201224T000000,20201231T000000
CATEGORIES:Baby Cafe
CREATED:20190903T183847Z
LAST-MODIFIED:20201204T151758Z
LOCATION:Community Room
URL:https://www.hastingspubliclibrary.org/news-events/calendar/baby-cafe
END:VEVENT
BEGIN:VTIMEZONE
TZID:America/New_York
X-LIC-LOCATION:America/New_York
BEGIN:DAYLIGHT
DTSTART:20190310T030000
TZNAME:EDT
TZOFFSETFROM:-0500
TZOFFSETTO:-0400
END:DAYLIGHT
END:VTIMEZONE
END:VCALENDAR
