BEGIN:VCALENDAR
VERSION:2.0
PRODID:-//Plone.org//NONSGML plone.app.event//EN
X-WR-TIMEZONE:America/New_York
BEGIN:VEVENT
SUMMARY:AI: Artificial Intelligence\, An Introduction for Beginners - Digi
 tal Literacy Class
DTSTART;TZID=America/New_York:20240909T180000
DTEND;TZID=America/New_York:20240909T193000
DTSTAMP:20260422T120716Z
UID:4a833385589a4edf9267920a4e820d27@saas_stack_varnish:6080
CATEGORIES:digital literacy
CONTACT:David Edelman\, 269-945-4263\, dedelman@hastingspubliclibrary.org
CREATED:20230412T153721Z
LAST-MODIFIED:20240610T170905Z
LOCATION:Community Room
URL:https://www.hastingspubliclibrary.org/news-events/calendar/artificial-
 intelligence-digital-literacy-class
END:VEVENT
BEGIN:VTIMEZONE
TZID:America/New_York
X-LIC-LOCATION:America/New_York
BEGIN:DAYLIGHT
DTSTART:20240310T030000
TZNAME:EDT
TZOFFSETFROM:-0500
TZOFFSETTO:-0400
END:DAYLIGHT
END:VTIMEZONE
END:VCALENDAR
