BEGIN:VCALENDAR
VERSION:2.0
PRODID:-//Plone.org//NONSGML plone.app.event//EN
X-WR-TIMEZONE:America/New_York
BEGIN:VEVENT
SUMMARY:Anime Club
DTSTART;TZID=America/New_York:20190928T130000
DTEND;TZID=America/New_York:20190928T150000
DTSTAMP:20260424T155901Z
UID:3381f3899cd74ac8a10996cf528e6ff4@saas_stack_varnish:6080
RRULE:FREQ=MONTHLY;UNTIL=20201204T000000;BYDAY=+4SA
EXDATE;TZID=America/New_York:20200328T000000,20200425T000000,20200523T0000
 00,20200627T000000,20200725T000000,20200822T000000,20200926T000000,2020102
 4T000000,20201128T000000,20201226T000000
ATTENDEE;CN="Teens grades 6-12";ROLE=REQ-PARTICIPANT:Teens grades 6-12
CATEGORIES:teen
CONTACT:Paige Brandli\, 269-945-4263\, pbrandli@hastingspubliclibrary.org
CREATED:20190910T145632Z
DESCRIPTION:Have some snacks\, talk anime and manga\, watch movies.
LAST-MODIFIED:20201204T152152Z
LOCATION:Community Room
URL:https://www.hastingspubliclibrary.org/news-events/calendar/anime-club
END:VEVENT
BEGIN:VTIMEZONE
TZID:America/New_York
X-LIC-LOCATION:America/New_York
BEGIN:DAYLIGHT
DTSTART:20190310T030000
TZNAME:EDT
TZOFFSETFROM:-0500
TZOFFSETTO:-0400
END:DAYLIGHT
END:VTIMEZONE
END:VCALENDAR
