BEGIN:VCALENDAR
VERSION:2.0
PRODID:-//Plone.org//NONSGML plone.app.event//EN
X-WR-TIMEZONE:America/New_York
BEGIN:VEVENT
SUMMARY:Adventures for Your Senses
DTSTART;TZID=America/New_York:20240724T140000
DTEND;TZID=America/New_York:20240724T150000
DTSTAMP:20260422T174810Z
UID:3aeae1ccf904472cab18924f0c3d36c6@saas_stack_varnish:6080
ATTENDEE;CN="This program is aimed at preschool through grade 5, but all a
 ges are welcome";ROLE=REQ-PARTICIPANT:This program is aimed at preschool t
 hrough grade 5, but all ages are welcome
CATEGORIES:summer reading,kids
CONTACT:Erin Quada\, 269-945-4263\, equada@hastingspubliclibrary.org
CREATED:20240228T202946Z
LAST-MODIFIED:20240610T170514Z
LOCATION:Community Room
URL:https://www.hastingspubliclibrary.org/news-events/calendar/adventures-
 for-your-senses
END:VEVENT
BEGIN:VTIMEZONE
TZID:America/New_York
X-LIC-LOCATION:America/New_York
BEGIN:DAYLIGHT
DTSTART:20240310T030000
TZNAME:EDT
TZOFFSETFROM:-0500
TZOFFSETTO:-0400
END:DAYLIGHT
END:VTIMEZONE
END:VCALENDAR
