BEGIN:VCALENDAR
VERSION:2.0
PRODID:-//Plone.org//NONSGML plone.app.event//EN
X-WR-TIMEZONE:America/New_York
BEGIN:VEVENT
SUMMARY:Adventures Around Town Scavenger Hunt
DTSTART;VALUE=DATE:20240802
DTEND;VALUE=DATE:20240803
DTSTAMP:20260422T174852Z
UID:cf343a43baaf4e8dbe5887289e9f02ae@saas_stack_varnish:6080
ATTENDEE;CN="all ages";ROLE=REQ-PARTICIPANT:all ages
CATEGORIES:summer reading
CONTACT:Erin Quada\, 269-945-4263\, equada@hastingspubliclibrary.org
CREATED:20240405T142158Z
LAST-MODIFIED:20240610T170601Z
LOCATION:Start at the Library
URL:https://www.hastingspubliclibrary.org/news-events/calendar/adventures-
 around-town-scavenger-hunt/2024-08-02
END:VEVENT
END:VCALENDAR
