BEGIN:VCALENDAR
VERSION:2.0
PRODID:-//Plone.org//NONSGML plone.app.event//EN
X-WR-TIMEZONE:America/New_York
BEGIN:VEVENT
SUMMARY:Adventure Hikes with Barry County Explorers
DTSTART;TZID=America/New_York:20240722T100000
DTEND;TZID=America/New_York:20240722T230000
DTSTAMP:20260424T131358Z
UID:57e959468e6d483faa9cb4d8f9ab5e8f@saas_stack_varnish:6080
ATTENDEE;CN="Kids 5 and older, caregivers must also attend";ROLE=REQ-PARTI
 CIPANT:Kids 5 and older, caregivers must also attend
CATEGORIES:summer reading,kids
CONTACT:Erin Quada\, 269-945-4263\, equada@hastingspubliclibrary.org
CREATED:20240410T173807Z
LAST-MODIFIED:20240610T164559Z
LOCATION:varies\, check for weekly location
URL:https://www.hastingspubliclibrary.org/news-events/calendar/adventure-h
 ikes-with-msu-extension/2024-07-22
END:VEVENT
BEGIN:VTIMEZONE
TZID:America/New_York
X-LIC-LOCATION:America/New_York
BEGIN:DAYLIGHT
DTSTART:20240310T030000
TZNAME:EDT
TZOFFSETFROM:-0500
TZOFFSETTO:-0400
END:DAYLIGHT
END:VTIMEZONE
END:VCALENDAR
