BEGIN:VCALENDAR
VERSION:2.0
PRODID:-//Plone.org//NONSGML plone.app.event//EN
X-WR-TIMEZONE:America/New_York
BEGIN:VEVENT
SUMMARY:Tie-dye Your Tote
DTSTART;TZID=America/New_York:20240622T100000
DTEND;TZID=America/New_York:20240622T130000
DTSTAMP:20260424T160337Z
UID:a320e48778864994b097e834a092f4c4@saas_stack_varnish:6080
ATTENDEE;CN="All Ages";ROLE=REQ-PARTICIPANT:All Ages
CATEGORIES:summer reading,teen,adult,kids
CONTACT:Lake Seif\, 269-945-4263\, lseif@hastingspubliclibrary.org
CREATED:20240228T201908Z
LAST-MODIFIED:20240621T131341Z
LOCATION:Community Room
URL:https://www.hastingspubliclibrary.org/news-events/calendar/Tie-dye-You
 r-Tote
END:VEVENT
BEGIN:VTIMEZONE
TZID:America/New_York
X-LIC-LOCATION:America/New_York
BEGIN:DAYLIGHT
DTSTART:20240310T030000
TZNAME:EDT
TZOFFSETFROM:-0500
TZOFFSETTO:-0400
END:DAYLIGHT
END:VTIMEZONE
END:VCALENDAR
