BEGIN:VCALENDAR
VERSION:2.0
PRODID:-//Plone.org//NONSGML plone.app.event//EN
X-WR-TIMEZONE:America/New_York
BEGIN:VEVENT
SUMMARY:Adventures in Geocaching
DTSTART;TZID=America/New_York:20240612T180000
DTEND;TZID=America/New_York:20240612T193000
DTSTAMP:20260424T155649Z
UID:667654e764954c6dbb284d6da91859fe@saas_stack_varnish:6080
CATEGORIES:summer reading,teen,adults
CONTACT:Barbara Haywood\, 269-945-4263\, bhaywood@hastingspubliclibrary.or
 g
CREATED:20240228T202210Z
LAST-MODIFIED:20240610T164852Z
LOCATION:Community Room & Outside
URL:https://www.hastingspubliclibrary.org/news-events/calendar/Adventures-
 in-Geocaching
END:VEVENT
BEGIN:VTIMEZONE
TZID:America/New_York
X-LIC-LOCATION:America/New_York
BEGIN:DAYLIGHT
DTSTART:20240310T030000
TZNAME:EDT
TZOFFSETFROM:-0500
TZOFFSETTO:-0400
END:DAYLIGHT
END:VTIMEZONE
END:VCALENDAR
