BEGIN:VCALENDAR
VERSION:2.0
PRODID:-//Plone.org//NONSGML plone.app.event//EN
X-WR-TIMEZONE:America/New_York
BEGIN:VEVENT
SUMMARY:Adventure with Reptiles
DTSTART;TZID=America/New_York:20240615T100000
DTEND;TZID=America/New_York:20240615T140000
DTSTAMP:20260423T091512Z
UID:b64dd54289cf4c65a75dff48bac37b15@saas_stack_varnish:6080
CATEGORIES:summer reading,families
CONTACT:Erin Quada\, 269-945-4263\, equada@hastingspubliclibrary.org
CREATED:20240228T200448Z
LAST-MODIFIED:20240613T141234Z
LOCATION:Community Room
URL:https://www.hastingspubliclibrary.org/news-events/calendar/Adventure-w
 ith-Reptiles
END:VEVENT
BEGIN:VTIMEZONE
TZID:America/New_York
X-LIC-LOCATION:America/New_York
BEGIN:DAYLIGHT
DTSTART:20240310T030000
TZNAME:EDT
TZOFFSETFROM:-0500
TZOFFSETTO:-0400
END:DAYLIGHT
END:VTIMEZONE
END:VCALENDAR
