BEGIN:VCALENDAR
VERSION:2.0
PRODID:-//Plone.org//NONSGML plone.app.event//EN
X-WR-TIMEZONE:America/New_York
BEGIN:VEVENT
SUMMARY:12 Hours of Gaming
DTSTART;TZID=America/New_York:20220319T100000
DTEND;TZID=America/New_York:20220319T220000
DTSTAMP:20260424T160225Z
UID:75b1ec5a92004161b1a004f8e9bf6718@saas_stack_varnish:6080
CATEGORIES:gaming,teen,adults
CONTACT:Gordon Replogle\, 269-948-8963\, gordonreplogle@sbcglobal.net\, ht
 tps://www.facebook.com/events/361143579176613/?acontext=%7B%22source%22%3A
 5%2C%22action_history%22%3A[%7B%22surface%22%3A%22page%22%2C%22mechanism%2
 2%3A%22main_list%22%2C%22extra_data%22%3A%22%5C%22[]%5C%22%22%7D]%2C%22has
 _source%22%3Atrue%7D
CREATED:20220224T143252Z
LAST-MODIFIED:20220308T205029Z
LOCATION:Community Room
URL:https://www.hastingspubliclibrary.org/news-events/calendar/12-hours-of
 -gaming
END:VEVENT
BEGIN:VTIMEZONE
TZID:America/New_York
X-LIC-LOCATION:America/New_York
BEGIN:DAYLIGHT
DTSTART:20220313T030000
TZNAME:EDT
TZOFFSETFROM:-0500
TZOFFSETTO:-0400
END:DAYLIGHT
END:VTIMEZONE
END:VCALENDAR
